BEGIN:VCALENDAR
VERSION:2.0
PRODID:-//Elyon College - ECPv6.15.20//NONSGML v1.0//EN
CALSCALE:GREGORIAN
METHOD:PUBLISH
X-WR-CALNAME:Elyon College
X-ORIGINAL-URL:https://elyon.edu
X-WR-CALDESC:Events for Elyon College
REFRESH-INTERVAL;VALUE=DURATION:PT1H
X-Robots-Tag:noindex
X-PUBLISHED-TTL:PT1H
BEGIN:VTIMEZONE
TZID:America/New_York
BEGIN:DAYLIGHT
TZOFFSETFROM:-0500
TZOFFSETTO:-0400
TZNAME:EDT
DTSTART:20250309T070000
END:DAYLIGHT
BEGIN:STANDARD
TZOFFSETFROM:-0400
TZOFFSETTO:-0500
TZNAME:EST
DTSTART:20251102T060000
END:STANDARD
BEGIN:DAYLIGHT
TZOFFSETFROM:-0500
TZOFFSETTO:-0400
TZNAME:EDT
DTSTART:20260308T070000
END:DAYLIGHT
BEGIN:STANDARD
TZOFFSETFROM:-0400
TZOFFSETTO:-0500
TZNAME:EST
DTSTART:20261101T060000
END:STANDARD
BEGIN:DAYLIGHT
TZOFFSETFROM:-0500
TZOFFSETTO:-0400
TZNAME:EDT
DTSTART:20270314T070000
END:DAYLIGHT
BEGIN:STANDARD
TZOFFSETFROM:-0400
TZOFFSETTO:-0500
TZNAME:EST
DTSTART:20271107T060000
END:STANDARD
END:VTIMEZONE
BEGIN:VEVENT
DTSTART;TZID=America/New_York:20260427T080000
DTEND;TZID=America/New_York:20260427T170000
DTSTAMP:20260423T075319
CREATED:20260113T170158Z
LAST-MODIFIED:20260113T170158Z
UID:7146-1777276800-1777309200@elyon.edu
SUMMARY:Registration Opens
DESCRIPTION:
URL:https://elyon.edu/event/registration-opens-2/
END:VEVENT
BEGIN:VEVENT
DTSTART;TZID=America/New_York:20260430T080000
DTEND;TZID=America/New_York:20260507T170000
DTSTAMP:20260423T075319
CREATED:20260113T170253Z
LAST-MODIFIED:20260113T170253Z
UID:7148-1777536000-1778173200@elyon.edu
SUMMARY:Orientation
DESCRIPTION:
URL:https://elyon.edu/event/orientation-5/
END:VEVENT
BEGIN:VEVENT
DTSTART;TZID=America/New_York:20260506T080000
DTEND;TZID=America/New_York:20260506T170000
DTSTAMP:20260423T075319
CREATED:20260113T170046Z
LAST-MODIFIED:20260113T170046Z
UID:7144-1778054400-1778086800@elyon.edu
SUMMARY:Classes End (Projected)
DESCRIPTION:
URL:https://elyon.edu/event/classes-end-projected-3/
END:VEVENT
BEGIN:VEVENT
DTSTART;TZID=America/New_York:20260507T080000
DTEND;TZID=America/New_York:20260507T170000
DTSTAMP:20260423T075319
CREATED:20260113T170419Z
LAST-MODIFIED:20260113T170419Z
UID:7150-1778140800-1778173200@elyon.edu
SUMMARY:Classes Begin (Projected)
DESCRIPTION:
URL:https://elyon.edu/event/classes-begin-projected-2/
END:VEVENT
BEGIN:VEVENT
DTSTART;TZID=America/New_York:20260521T080000
DTEND;TZID=America/New_York:20260524T170000
DTSTAMP:20260423T075319
CREATED:20260113T170511Z
LAST-MODIFIED:20260113T170511Z
UID:7152-1779350400-1779642000@elyon.edu
SUMMARY:Shavuoth\, no sessions
DESCRIPTION:
URL:https://elyon.edu/event/shavuoth-no-sessions-3/
END:VEVENT
BEGIN:VEVENT
DTSTART;TZID=America/New_York:20260617T080000
DTEND;TZID=America/New_York:20260617T170000
DTSTAMP:20260423T075319
CREATED:20260113T170607Z
LAST-MODIFIED:20260113T170620Z
UID:7154-1781683200-1781715600@elyon.edu
SUMMARY:Classes End (Projected)
DESCRIPTION:
URL:https://elyon.edu/event/classes-end-projected-4/
END:VEVENT
END:VCALENDAR