BEGIN:VCALENDAR
VERSION:2.0
PRODID:-//Elyon College - ECPv6.15.20//NONSGML v1.0//EN
CALSCALE:GREGORIAN
METHOD:PUBLISH
X-WR-CALNAME:Elyon College
X-ORIGINAL-URL:https://elyon.edu
X-WR-CALDESC:Events for Elyon College
REFRESH-INTERVAL;VALUE=DURATION:PT1H
X-Robots-Tag:noindex
X-PUBLISHED-TTL:PT1H
BEGIN:VTIMEZONE
TZID:America/New_York
BEGIN:DAYLIGHT
TZOFFSETFROM:-0500
TZOFFSETTO:-0400
TZNAME:EDT
DTSTART:20220313T070000
END:DAYLIGHT
BEGIN:STANDARD
TZOFFSETFROM:-0400
TZOFFSETTO:-0500
TZNAME:EST
DTSTART:20221106T060000
END:STANDARD
BEGIN:DAYLIGHT
TZOFFSETFROM:-0500
TZOFFSETTO:-0400
TZNAME:EDT
DTSTART:20230312T070000
END:DAYLIGHT
BEGIN:STANDARD
TZOFFSETFROM:-0400
TZOFFSETTO:-0500
TZNAME:EST
DTSTART:20231105T060000
END:STANDARD
BEGIN:DAYLIGHT
TZOFFSETFROM:-0500
TZOFFSETTO:-0400
TZNAME:EDT
DTSTART:20240310T070000
END:DAYLIGHT
BEGIN:STANDARD
TZOFFSETFROM:-0400
TZOFFSETTO:-0500
TZNAME:EST
DTSTART:20241103T060000
END:STANDARD
BEGIN:DAYLIGHT
TZOFFSETFROM:-0500
TZOFFSETTO:-0400
TZNAME:EDT
DTSTART:20250309T070000
END:DAYLIGHT
BEGIN:STANDARD
TZOFFSETFROM:-0400
TZOFFSETTO:-0500
TZNAME:EST
DTSTART:20251102T060000
END:STANDARD
BEGIN:DAYLIGHT
TZOFFSETFROM:-0500
TZOFFSETTO:-0400
TZNAME:EDT
DTSTART:20260308T070000
END:DAYLIGHT
BEGIN:STANDARD
TZOFFSETFROM:-0400
TZOFFSETTO:-0500
TZNAME:EST
DTSTART:20261101T060000
END:STANDARD
BEGIN:DAYLIGHT
TZOFFSETFROM:-0500
TZOFFSETTO:-0400
TZNAME:EDT
DTSTART:20270314T070000
END:DAYLIGHT
BEGIN:STANDARD
TZOFFSETFROM:-0400
TZOFFSETTO:-0500
TZNAME:EST
DTSTART:20271107T060000
END:STANDARD
END:VTIMEZONE
BEGIN:VEVENT
DTSTART;VALUE=DATE:20260101
DTEND;VALUE=DATE:20260102
DTSTAMP:20260423T155026
CREATED:20260113T165709Z
LAST-MODIFIED:20260113T165709Z
UID:7138-1767225600-1767311999@elyon.edu
SUMMARY:Classes Begin
DESCRIPTION:
URL:https://elyon.edu/event/classes-begin/
END:VEVENT
BEGIN:VEVENT
DTSTART;TZID=America/New_York:20250618T080000
DTEND;TZID=America/New_York:20250618T170000
DTSTAMP:20260423T155026
CREATED:20240916T005217Z
LAST-MODIFIED:20240916T005217Z
UID:6710-1750233600-1750266000@elyon.edu
SUMMARY:Classes End (Projected)
DESCRIPTION:
URL:https://elyon.edu/event/classes-end-projected-2/
END:VEVENT
BEGIN:VEVENT
DTSTART;VALUE=DATE:20250618
DTEND;VALUE=DATE:20250619
DTSTAMP:20260423T155026
CREATED:20241225T205438Z
LAST-MODIFIED:20240916T001934Z
UID:6001-1750204800-1750291199@elyon.edu
SUMMARY:Classes End (Projected-All Programs)
DESCRIPTION:
URL:https://elyon.edu/event/classes-end-projected-all-programs-2/
END:VEVENT
BEGIN:VEVENT
DTSTART;TZID=America/New_York:20250601T080000
DTEND;TZID=America/New_York:20250603T170000
DTSTAMP:20260423T155026
CREATED:20240916T005049Z
LAST-MODIFIED:20240916T005049Z
UID:6707-1748764800-1748970000@elyon.edu
SUMMARY:Shavuoth\, No Sessions
DESCRIPTION:
URL:https://elyon.edu/event/shavuoth-no-sessions-2/
END:VEVENT
BEGIN:VEVENT
DTSTART;VALUE=DATE:20250601
DTEND;VALUE=DATE:20250604
DTSTAMP:20260423T155026
CREATED:20250601T195402Z
LAST-MODIFIED:20240916T004827Z
UID:5999-1748736000-1748995199@elyon.edu
SUMMARY:Shavuoth\, no sessions
DESCRIPTION:
URL:https://elyon.edu/event/shavuoth-no-sessions/
END:VEVENT
BEGIN:VEVENT
DTSTART;TZID=America/New_York:20250512T080000
DTEND;TZID=America/New_York:20250512T170000
DTSTAMP:20260423T155026
CREATED:20240916T004555Z
LAST-MODIFIED:20240916T004555Z
UID:6705-1747036800-1747069200@elyon.edu
SUMMARY:Classes Begin (Projected)
DESCRIPTION:
URL:https://elyon.edu/event/classes-begin-projected/
END:VEVENT
BEGIN:VEVENT
DTSTART;VALUE=DATE:20250508
DTEND;VALUE=DATE:20250509
DTSTAMP:20260423T155026
CREATED:20240202T151735Z
LAST-MODIFIED:20240915T180946Z
UID:6581-1746662400-1746748799@elyon.edu
SUMMARY:Classes End (Projected-All Programs)
DESCRIPTION:
URL:https://elyon.edu/event/classes-end-projected-all-programs-3/
END:VEVENT
BEGIN:VEVENT
DTSTART;VALUE=DATE:20250501
DTEND;VALUE=DATE:20250509
DTSTAMP:20260423T155026
CREATED:20230906T195232Z
LAST-MODIFIED:20240915T180550Z
UID:5995-1746057600-1746748799@elyon.edu
SUMMARY:Orientation
DESCRIPTION:
URL:https://elyon.edu/event/orientation-3/
END:VEVENT
BEGIN:VEVENT
DTSTART;VALUE=DATE:20250401
DTEND;VALUE=DATE:20250422
DTSTAMP:20260423T155026
CREATED:20230906T194813Z
LAST-MODIFIED:20240916T004334Z
UID:5989-1743465600-1745279999@elyon.edu
SUMMARY:Passover\, no sessions
DESCRIPTION:
URL:https://elyon.edu/event/passover-no-sessions/
END:VEVENT
BEGIN:VEVENT
DTSTART;VALUE=DATE:20250317
DTEND;VALUE=DATE:20250318
DTSTAMP:20260423T155026
CREATED:20230906T195119Z
LAST-MODIFIED:20240915T175127Z
UID:5993-1742169600-1742255999@elyon.edu
SUMMARY:Summer Semester\, 2025 - Registration Opens
DESCRIPTION:
URL:https://elyon.edu/event/summer-semester-2024-registration-opens/
END:VEVENT
BEGIN:VEVENT
DTSTART;VALUE=DATE:20250313
DTEND;VALUE=DATE:20250315
DTSTAMP:20260423T155026
CREATED:20230906T194704Z
LAST-MODIFIED:20240916T002115Z
UID:5987-1741824000-1741996799@elyon.edu
SUMMARY:Purim\, no sessions
DESCRIPTION:
URL:https://elyon.edu/event/purim-no-sessions/
END:VEVENT
BEGIN:VEVENT
DTSTART;TZID=America/New_York:20250106T080000
DTEND;TZID=America/New_York:20250127T170000
DTSTAMP:20260423T155026
CREATED:20250106T185814Z
LAST-MODIFIED:20240916T003656Z
UID:6531-1736150400-1737997200@elyon.edu
SUMMARY:Israel Trip - Tentative\, No Sessions
DESCRIPTION:
URL:https://elyon.edu/event/israel-trip-tentative/
END:VEVENT
BEGIN:VEVENT
DTSTART;TZID=America/New_York:20250106T080000
DTEND;TZID=America/New_York:20250127T170000
DTSTAMP:20260423T155026
CREATED:20240916T003934Z
LAST-MODIFIED:20240916T004055Z
UID:6703-1736150400-1737997200@elyon.edu
SUMMARY:Israel Trip\, Tentative\, No Sessions
DESCRIPTION:
URL:https://elyon.edu/event/israel-trip-tentative-no-sessions-2/
END:VEVENT
BEGIN:VEVENT
DTSTART;TZID=America/New_York:20250101T080000
DTEND;TZID=America/New_York:20250101T170000
DTSTAMP:20260423T155026
CREATED:20231214T183729Z
LAST-MODIFIED:20240916T002940Z
UID:6526-1735718400-1735750800@elyon.edu
SUMMARY:Classes Begin
DESCRIPTION:
URL:https://elyon.edu/event/classes-resume/
END:VEVENT
BEGIN:VEVENT
DTSTART;VALUE=DATE:20241230
DTEND;VALUE=DATE:20250101
DTSTAMP:20260423T155026
CREATED:20230906T192229Z
LAST-MODIFIED:20240916T002242Z
UID:5968-1735516800-1735689599@elyon.edu
SUMMARY:Chanuka\, no sessions
DESCRIPTION:
URL:https://elyon.edu/event/chanuka-no-sessions/
END:VEVENT
BEGIN:VEVENT
DTSTART;TZID=America/New_York:20241225T080000
DTEND;TZID=America/New_York:20241225T170000
DTSTAMP:20260423T155026
CREATED:20240916T003059Z
LAST-MODIFIED:20240916T003059Z
UID:6697-1735113600-1735146000@elyon.edu
SUMMARY:Classes End (Projected)
DESCRIPTION:
URL:https://elyon.edu/event/classes-end-projected/
END:VEVENT
BEGIN:VEVENT
DTSTART;TZID=America/New_York:20241223T080000
DTEND;TZID=America/New_York:20241231T170000
DTSTAMP:20260423T155026
CREATED:20240916T003508Z
LAST-MODIFIED:20240916T003508Z
UID:6701-1734940800-1735664400@elyon.edu
SUMMARY:Orientation
DESCRIPTION:
URL:https://elyon.edu/event/orientation-4/
END:VEVENT
BEGIN:VEVENT
DTSTART;TZID=America/New_York:20241202T080000
DTEND;TZID=America/New_York:20241202T170000
DTSTAMP:20260423T155026
CREATED:20240916T003419Z
LAST-MODIFIED:20240916T003419Z
UID:6699-1733126400-1733158800@elyon.edu
SUMMARY:Registration Open
DESCRIPTION:
URL:https://elyon.edu/event/registration-open/
END:VEVENT
BEGIN:VEVENT
DTSTART;VALUE=DATE:20241011
DTEND;VALUE=DATE:20241028
DTSTAMP:20260423T155026
CREATED:20230906T192104Z
LAST-MODIFIED:20240916T002345Z
UID:5966-1728604800-1730073599@elyon.edu
SUMMARY:Yom Kippur\, Succot\, no sessions
DESCRIPTION:
URL:https://elyon.edu/event/yom-kippur-succot-no-sessions/
END:VEVENT
BEGIN:VEVENT
DTSTART;VALUE=DATE:20241002
DTEND;VALUE=DATE:20241005
DTSTAMP:20260423T155026
CREATED:20230906T191400Z
LAST-MODIFIED:20240916T002557Z
UID:5959-1727827200-1728086399@elyon.edu
SUMMARY:Rosh Hashanah\, no sessions
DESCRIPTION:
URL:https://elyon.edu/event/rosh-hashanah-no-sessions/
END:VEVENT
BEGIN:VEVENT
DTSTART;VALUE=DATE:20240917
DTEND;VALUE=DATE:20240918
DTSTAMP:20260423T155026
CREATED:20230906T230400Z
LAST-MODIFIED:20240916T002428Z
UID:5957-1726531200-1726617599@elyon.edu
SUMMARY:Voter Registration Day
DESCRIPTION:
URL:https://elyon.edu/event/voter-registration-day/
END:VEVENT
BEGIN:VEVENT
DTSTART;TZID=America/New_York:20240619T080000
DTEND;TZID=America/New_York:20240619T170000
DTSTAMP:20260423T155026
CREATED:20231214T190013Z
LAST-MODIFIED:20231214T190013Z
UID:6533-1718784000-1718816400@elyon.edu
SUMMARY:Graduation Ceremony\, Tentative
DESCRIPTION:
URL:https://elyon.edu/event/graduation-ceremony-tentative/
END:VEVENT
BEGIN:VEVENT
DTSTART;VALUE=DATE:20240611
DTEND;VALUE=DATE:20240612
DTSTAMP:20260423T155026
CREATED:20240506T214457Z
LAST-MODIFIED:20240506T214457Z
UID:6633-1718064000-1718150399@elyon.edu
SUMMARY:Erev Shavuoth\, Half day
DESCRIPTION:
URL:https://elyon.edu/event/erev-shavuoth-half-day/
END:VEVENT
BEGIN:VEVENT
DTSTART;VALUE=DATE:20240603
DTEND;VALUE=DATE:20240604
DTSTAMP:20260423T155026
CREATED:20230906T215747Z
LAST-MODIFIED:20240915T173717Z
UID:5944-1717372800-1717459199@elyon.edu
SUMMARY:Fall Semester\, 2024 - Registration Opens
DESCRIPTION:
URL:https://elyon.edu/event/registration-opens/
END:VEVENT
BEGIN:VEVENT
DTSTART;VALUE=DATE:20240123
DTEND;VALUE=DATE:20240130
DTSTAMP:20260423T155026
CREATED:20230906T194603Z
LAST-MODIFIED:20231214T183419Z
UID:5985-1705968000-1706572799@elyon.edu
SUMMARY:Midwinter Break\, no sessions
DESCRIPTION:
URL:https://elyon.edu/event/israel-trip-tentative-no-sessions/
END:VEVENT
BEGIN:VEVENT
DTSTART;VALUE=DATE:20240101
DTEND;VALUE=DATE:20240102
DTSTAMP:20260423T155026
CREATED:20230906T194446Z
LAST-MODIFIED:20230906T194446Z
UID:5983-1704067200-1704153599@elyon.edu
SUMMARY:Classes Begin (Projected-All Programs)
DESCRIPTION:
URL:https://elyon.edu/event/classes-begin-projected-all-programs-2/
END:VEVENT
BEGIN:VEVENT
DTSTART;VALUE=DATE:20231228
DTEND;VALUE=DATE:20231229
DTSTAMP:20260423T155026
CREATED:20240202T151120Z
LAST-MODIFIED:20240202T151120Z
UID:6575-1703721600-1703807999@elyon.edu
SUMMARY:Classes End (Projected-All Programs)
DESCRIPTION:
URL:https://elyon.edu/event/classes-end-projected-all-programs/
END:VEVENT
BEGIN:VEVENT
DTSTART;VALUE=DATE:20231221
DTEND;VALUE=DATE:20231229
DTSTAMP:20260423T155026
CREATED:20230906T194359Z
LAST-MODIFIED:20230906T194359Z
UID:5981-1703116800-1703807999@elyon.edu
SUMMARY:Orientation
DESCRIPTION:
URL:https://elyon.edu/event/orientation-2/
END:VEVENT
BEGIN:VEVENT
DTSTART;VALUE=DATE:20231204
DTEND;VALUE=DATE:20231205
DTSTAMP:20260423T155026
CREATED:20230906T194028Z
LAST-MODIFIED:20230906T194028Z
UID:5979-1701648000-1701734399@elyon.edu
SUMMARY:Spring Semester\, 2024 - Registration Opens
DESCRIPTION:
URL:https://elyon.edu/event/spring-semester-2024-registration-opens/
END:VEVENT
BEGIN:VEVENT
DTSTART;VALUE=DATE:20230918
DTEND;VALUE=DATE:20230919
DTSTAMP:20260423T155026
CREATED:20230906T191852Z
LAST-MODIFIED:20230906T191852Z
UID:5964-1694995200-1695081599@elyon.edu
SUMMARY:Tzom Gedalia\, no sessions
DESCRIPTION:
URL:https://elyon.edu/event/tzom-gedalia-no-sessions/
END:VEVENT
END:VCALENDAR